BEGIN:VCALENDAR
VERSION:2.0
PRODID:-//wp-events-plugin.com//7.2.3.1//EN
BEGIN:VEVENT
UID:106@openwest.nl
DTSTART;TZID=Europe/Amsterdam:20260509T130000
DTEND;TZID=Europe/Amsterdam:20260510T170000
DTSTAMP:20260412T080132Z
URL:https://openwest.nl/oud-west-evenement/hellen-sonneveld-910mei2026/
SUMMARY:Hellen Sonneveld 9|10|MEI|2026
DESCRIPTION:Hellen Sonneveld exposeert zaterdag 9 en zondag 10 mei van 13.0
 0 tot 17.00 uur – vrij entree
ATTACH;FMTTYPE=image/jpeg:https://openwest.nl/wp-content/uploads/2026/04/c
 ombi.jpg
CATEGORIES:Exposities,Kunst
LOCATION:Zaansgroen\, Zeemansstraat 54 \, Zaandam\, 1506CV\, Nederland
X-APPLE-STRUCTURED-LOCATION;VALUE=URI;X-ADDRESS=Zeemansstraat 54 \, Zaandam
 \, 1506CV\, Nederland;X-APPLE-RADIUS=100;X-TITLE=Zaansgroen:geo:0,0
END:VEVENT
BEGIN:VTIMEZONE
TZID:Europe/Amsterdam
X-LIC-LOCATION:Europe/Amsterdam
BEGIN:DAYLIGHT
DTSTART:20260329T030000
TZOFFSETFROM:+0100
TZOFFSETTO:+0200
TZNAME:CEST
END:DAYLIGHT
END:VTIMEZONE
END:VCALENDAR