BEGIN:VCALENDAR
VERSION:2.0
PRODID:-//wp-events-plugin.com//7.2.3.1//EN
BEGIN:VEVENT
UID:96@openwest.nl
DTSTART;TZID=Europe/Amsterdam:20260321T130000
DTEND;TZID=Europe/Amsterdam:20260322T170000
DTSTAMP:20260209T094148Z
URL:https://openwest.nl/oud-west-evenement/ksenia-lyakhova-2122mrt-exposit
 ie/
SUMMARY:Ksenia Lyakhova – 21|22|MRT - expositie
DESCRIPTION:Zaansgroen
ATTACH;FMTTYPE=image/jpeg:https://openwest.nl/wp-content/uploads/2026/02/w
 eb-xenia-See-Beyond.jpg
CATEGORIES:Exposities,Kunst
LOCATION:Zaansgroen\, Zeemansstraat 54 \, Zaandam\, 1506CV\, Nederland
X-APPLE-STRUCTURED-LOCATION;VALUE=URI;X-ADDRESS=Zeemansstraat 54 \, Zaandam
 \, 1506CV\, Nederland;X-APPLE-RADIUS=100;X-TITLE=Zaansgroen:geo:0,0
END:VEVENT
BEGIN:VTIMEZONE
TZID:Europe/Amsterdam
X-LIC-LOCATION:Europe/Amsterdam
BEGIN:STANDARD
DTSTART:20251026T020000
TZOFFSETFROM:+0200
TZOFFSETTO:+0100
TZNAME:CET
END:STANDARD
END:VTIMEZONE
END:VCALENDAR