BEGIN:VCALENDAR
VERSION:2.0
PRODID:-//wp-events-plugin.com//7.2.3.1//EN
BEGIN:VEVENT
UID:97@openwest.nl
DTSTART;TZID=Europe/Amsterdam:20260328T130000
DTEND;TZID=Europe/Amsterdam:20260329T170000
DTSTAMP:20260209T094426Z
URL:https://openwest.nl/oud-west-evenement/kubra-bayrak-2829mrt-expositie/
SUMMARY:Kubra Bayrak - 28|29|MRT - expositie
DESCRIPTION:Zaansgroen
ATTACH;FMTTYPE=image/jpeg:https://openwest.nl/wp-content/uploads/2026/02/c
 ombinatie.jpg
CATEGORIES:Exposities,Kunst
LOCATION:Zaansgroen\, Zeemansstraat 54 \, Zaandam\, 1506CV\, Nederland
X-APPLE-STRUCTURED-LOCATION;VALUE=URI;X-ADDRESS=Zeemansstraat 54 \, Zaandam
 \, 1506CV\, Nederland;X-APPLE-RADIUS=100;X-TITLE=Zaansgroen:geo:0,0
END:VEVENT
BEGIN:VTIMEZONE
TZID:Europe/Amsterdam
X-LIC-LOCATION:Europe/Amsterdam
BEGIN:STANDARD
DTSTART:20251026T020000
TZOFFSETFROM:+0200
TZOFFSETTO:+0100
TZNAME:CET
END:STANDARD
BEGIN:DAYLIGHT
DTSTART:20260329T030000
TZOFFSETFROM:+0100
TZOFFSETTO:+0200
TZNAME:CEST
END:DAYLIGHT
END:VTIMEZONE
END:VCALENDAR