BEGIN:VCALENDAR
VERSION:2.0
PRODID:-//wp-events-plugin.com//7.2.3.1//EN
BEGIN:VEVENT
UID:99@openwest.nl
DTSTART;TZID=Europe/Amsterdam:20260301T160000
DTEND;TZID=Europe/Amsterdam:20260301T163000
DTSTAMP:20260218T183315Z
URL:https://openwest.nl/oud-west-evenement/marie-chaplet-zingt-haar-lievel
 ings-franse-liedjes/
SUMMARY:" MARIE CHAPLET" zingt haar lievelings franse liedjes
DESCRIPTION:zondag 1 maart bij "L'ARDENTE"te ZAANDAM
CATEGORIES:Muziek
LOCATION:Theatre l'Ardente\, Zeemansstraat 39\, Zaandam\, 1506CT\, Nederlan
 d
X-APPLE-STRUCTURED-LOCATION;VALUE=URI;X-ADDRESS=Zeemansstraat 39\, Zaandam\
 , 1506CT\, Nederland;X-APPLE-RADIUS=100;X-TITLE=Theatre l'Ardente:geo:0,0
END:VEVENT
BEGIN:VTIMEZONE
TZID:Europe/Amsterdam
X-LIC-LOCATION:Europe/Amsterdam
BEGIN:STANDARD
DTSTART:20251026T020000
TZOFFSETFROM:+0200
TZOFFSETTO:+0100
TZNAME:CET
END:STANDARD
END:VTIMEZONE
END:VCALENDAR