BEGIN:VCALENDAR
VERSION:2.0
PRODID:-//wp-events-plugin.com//7.2.3.1//EN
BEGIN:VEVENT
UID:102@openwest.nl
DTSTART;TZID=Europe/Amsterdam:20260426T150000
DTEND;TZID=Europe/Amsterdam:20260426T161500
DTSTAMP:20260403T141135Z
URL:https://openwest.nl/oud-west-evenement/marquis-bieshaar-klassiek-piano
 -concert/
SUMMARY:MARQUIS BIESHAAR "klassiek piano concert"
DESCRIPTION:Marquis Bieshaar begon op negenjarige leeftijd met pianospelen 
 en ontving vanaf dat moment les van Mattheus Smits. In 2007 studeerde hij 
 af aan de Bourdon Hogeschool voor Muziek\, waar hij als een van de laatste
 n het staatsexamen behaalde.\n\nTegenwoordig is Marquis actief als pianodo
 cent in de regio Purmerend en treedt hij regelmatig op als solist. Zo was 
 hij te horen in het Zaantheater\, waar hij samen met het Promenade Orkest 
 onder leiding van Bas Pollard optrad.\n\nNaast zijn werk als docent is hij
  eveneens actief als begeleider en werkt hij graag samen met bevriende mus
 ici in uiteenlopende concertprojecten.
CATEGORIES:Muziek
LOCATION:Theatre l'Ardente\, Zeemansstraat 39\, Zaandam\, 1506CT\, Nederlan
 d
X-APPLE-STRUCTURED-LOCATION;VALUE=URI;X-ADDRESS=Zeemansstraat 39\, Zaandam\
 , 1506CT\, Nederland;X-APPLE-RADIUS=100;X-TITLE=Theatre l'Ardente:geo:0,0
END:VEVENT
BEGIN:VTIMEZONE
TZID:Europe/Amsterdam
X-LIC-LOCATION:Europe/Amsterdam
BEGIN:DAYLIGHT
DTSTART:20260329T030000
TZOFFSETFROM:+0100
TZOFFSETTO:+0200
TZNAME:CEST
END:DAYLIGHT
END:VTIMEZONE
END:VCALENDAR