BEGIN:VCALENDAR
VERSION:2.0
PRODID:-//wp-events-plugin.com//7.2.3.1//EN
BEGIN:VEVENT
UID:101@openwest.nl
DTSTART;TZID=Europe/Amsterdam:20260411T160000
DTEND;TZID=Europe/Amsterdam:20260411T173000
DTSTAMP:20260331T144708Z
URL:https://openwest.nl/oud-west-evenement/mik-kruiswijk-cajan-witmer-van-
 het-een-komt-het-ander/
SUMMARY:Mik Kruiswijk- Cajan Witmer "Van het een komt het ander"
DESCRIPTION:Zangeres Mik Kruiswijk brengt in deze voorstelling een mix van 
 eigen nederlandstalige nummers afgewisseld met bekende jazz standards en k
 orte verhalen. Pianist Cajan Witmer begeleidt haar en voert een unieke sfe
 er toe aan de liedjes...Welkon !!!
CATEGORIES:Kunst,Muziek
LOCATION:Theatre l'Ardente\, Zeemansstraat 39\, Zaandam\, 1506CT\, Nederlan
 d
X-APPLE-STRUCTURED-LOCATION;VALUE=URI;X-ADDRESS=Zeemansstraat 39\, Zaandam\
 , 1506CT\, Nederland;X-APPLE-RADIUS=100;X-TITLE=Theatre l'Ardente:geo:0,0
END:VEVENT
BEGIN:VTIMEZONE
TZID:Europe/Amsterdam
X-LIC-LOCATION:Europe/Amsterdam
BEGIN:DAYLIGHT
DTSTART:20260329T030000
TZOFFSETFROM:+0100
TZOFFSETTO:+0200
TZNAME:CEST
END:DAYLIGHT
END:VTIMEZONE
END:VCALENDAR