BEGIN:VCALENDAR
VERSION:2.0
PRODID:-//wp-events-plugin.com//7.2.3.1//EN
BEGIN:VEVENT
UID:98@openwest.nl
DTSTART;TZID=Europe/Amsterdam:20260307T120000
DTEND;TZID=Europe/Amsterdam:20260307T133000
DTSTAMP:20260216T135548Z
URL:https://openwest.nl/oud-west-evenement/moestuin-meeting/
SUMMARY:Moestuin meeting
DESCRIPTION:Volkstuin
ATTACH;FMTTYPE=image/jpeg:https://openwest.nl/wp-content/uploads/2026/02/v
 olkstuin-oudwest.jpg
CATEGORIES:Samen,Tuinieren
LOCATION:Volkstuin\, Parkstraat 68\, Zaandam\, Nederland
X-APPLE-STRUCTURED-LOCATION;VALUE=URI;X-ADDRESS=Parkstraat 68\, Zaandam\, N
 ederland;X-APPLE-RADIUS=100;X-TITLE=Volkstuin:geo:0,0
END:VEVENT
BEGIN:VTIMEZONE
TZID:Europe/Amsterdam
X-LIC-LOCATION:Europe/Amsterdam
BEGIN:STANDARD
DTSTART:20251026T020000
TZOFFSETFROM:+0200
TZOFFSETTO:+0100
TZNAME:CET
END:STANDARD
END:VTIMEZONE
END:VCALENDAR