BEGIN:VCALENDAR
VERSION:2.0
PRODID:-//wp-events-plugin.com//7.2.3.1//EN
BEGIN:VEVENT
UID:107@openwest.nl
DTSTART;TZID=Europe/Amsterdam:20260516T130000
DTEND;TZID=Europe/Amsterdam:20260517T170000
DTSTAMP:20260412T080503Z
URL:https://openwest.nl/oud-west-evenement/sandie-g-monochrome-1617mei2026
 /
SUMMARY:Sandie G. – Monochrome – 16|17|MEI|2026
DESCRIPTION:De expositie met portretten van Sandie G. vindt plaats op zater
 dag 16 en zondag 17 mei van 13.00 tot 17.00u – vrij entree
ATTACH;FMTTYPE=image/jpeg:https://openwest.nl/wp-content/uploads/2026/04/e
 xpositie-sandy-g-zaansgroen.jpg
CATEGORIES:Exposities,Kunst
LOCATION:Zaansgroen\, Zeemansstraat 54 \, Zaandam\, 1506CV\, Nederland
X-APPLE-STRUCTURED-LOCATION;VALUE=URI;X-ADDRESS=Zeemansstraat 54 \, Zaandam
 \, 1506CV\, Nederland;X-APPLE-RADIUS=100;X-TITLE=Zaansgroen:geo:0,0
END:VEVENT
BEGIN:VTIMEZONE
TZID:Europe/Amsterdam
X-LIC-LOCATION:Europe/Amsterdam
BEGIN:DAYLIGHT
DTSTART:20260329T030000
TZOFFSETFROM:+0100
TZOFFSETTO:+0200
TZNAME:CEST
END:DAYLIGHT
END:VTIMEZONE
END:VCALENDAR