BEGIN:VCALENDAR
VERSION:2.0
PRODID:-//wp-events-plugin.com//7.2.3.1//EN
BEGIN:VEVENT
UID:6@openwest.nl
DTSTART;TZID=Europe/Amsterdam:20260210T120000
DTEND;TZID=Europe/Amsterdam:20270831T133000
DTSTAMP:20260209T092036Z
URL:https://openwest.nl/oud-west-evenement/uitsmijterij-elke-dinsdag/
SUMMARY:Uitsmijterij - elke dinsdag
DESCRIPTION:Bullekerk
ATTACH;FMTTYPE=image/jpeg:https://openwest.nl/wp-content/uploads/2026/02/h
 eader-uitsmijter.jpg
CATEGORIES:Samen
LOCATION:The Bull\, Westzijde 75\, Zaandam\, Nederland
X-APPLE-STRUCTURED-LOCATION;VALUE=URI;X-ADDRESS=Westzijde 75\, Zaandam\, Ne
 derland;X-APPLE-RADIUS=100;X-TITLE=The Bull:geo:0,0
END:VEVENT
BEGIN:VTIMEZONE
TZID:Europe/Amsterdam
X-LIC-LOCATION:Europe/Amsterdam
BEGIN:STANDARD
DTSTART:20251026T020000
TZOFFSETFROM:+0200
TZOFFSETTO:+0100
TZNAME:CET
END:STANDARD
BEGIN:DAYLIGHT
DTSTART:20260329T030000
TZOFFSETFROM:+0100
TZOFFSETTO:+0200
TZNAME:CEST
END:DAYLIGHT
BEGIN:STANDARD
DTSTART:20261025T020000
TZOFFSETFROM:+0200
TZOFFSETTO:+0100
TZNAME:CET
END:STANDARD
BEGIN:DAYLIGHT
DTSTART:20270328T030000
TZOFFSETFROM:+0100
TZOFFSETTO:+0200
TZNAME:CEST
END:DAYLIGHT
END:VTIMEZONE
END:VCALENDAR